BEGIN:VCALENDAR
VERSION:2.0
PRODID:-//The Offers and Needs Market - ECPv6.15.20//NONSGML v1.0//EN
CALSCALE:GREGORIAN
METHOD:PUBLISH
X-WR-CALNAME:The Offers and Needs Market
X-ORIGINAL-URL:https://offersandneeds.com
X-WR-CALDESC:Events for The Offers and Needs Market
REFRESH-INTERVAL;VALUE=DURATION:PT1H
X-Robots-Tag:noindex
X-PUBLISHED-TTL:PT1H
BEGIN:VTIMEZONE
TZID:UTC
BEGIN:STANDARD
TZOFFSETFROM:+0000
TZOFFSETTO:+0000
TZNAME:UTC
DTSTART:20240101T000000
END:STANDARD
END:VTIMEZONE
BEGIN:VEVENT
DTSTART;TZID=UTC:20251025T160000
DTEND;TZID=UTC:20251026T180000
DTSTAMP:20260422T131745
CREATED:20241112T173039Z
LAST-MODIFIED:20250921T202841Z
UID:35081-1761408000-1761501600@offersandneeds.com
SUMMARY:The Offers and Needs Market Facilitator Training – October 2025
DESCRIPTION:This course will be over two consecutive days\, starting on Saturday\, October 25. For more information click here.
URL:https://offersandneeds.com/events/the-offers-and-needs-market-facilitator-training-october-2025/2025-10-25/
END:VEVENT
END:VCALENDAR