BEGIN:VCALENDAR
VERSION:2.0
PRODID:-//The Offers and Needs Market - ECPv6.15.20//NONSGML v1.0//EN
CALSCALE:GREGORIAN
METHOD:PUBLISH
X-ORIGINAL-URL:https://offersandneeds.com
X-WR-CALDESC:Events for The Offers and Needs Market
REFRESH-INTERVAL;VALUE=DURATION:PT1H
X-Robots-Tag:noindex
X-PUBLISHED-TTL:PT1H
BEGIN:VTIMEZONE
TZID:America/Denver
BEGIN:DAYLIGHT
TZOFFSETFROM:-0700
TZOFFSETTO:-0600
TZNAME:MDT
DTSTART:20230312T090000
END:DAYLIGHT
BEGIN:STANDARD
TZOFFSETFROM:-0600
TZOFFSETTO:-0700
TZNAME:MST
DTSTART:20231105T080000
END:STANDARD
BEGIN:DAYLIGHT
TZOFFSETFROM:-0700
TZOFFSETTO:-0600
TZNAME:MDT
DTSTART:20240310T090000
END:DAYLIGHT
BEGIN:STANDARD
TZOFFSETFROM:-0600
TZOFFSETTO:-0700
TZNAME:MST
DTSTART:20241103T080000
END:STANDARD
BEGIN:DAYLIGHT
TZOFFSETFROM:-0700
TZOFFSETTO:-0600
TZNAME:MDT
DTSTART:20250309T090000
END:DAYLIGHT
BEGIN:STANDARD
TZOFFSETFROM:-0600
TZOFFSETTO:-0700
TZNAME:MST
DTSTART:20251102T080000
END:STANDARD
END:VTIMEZONE
BEGIN:VEVENT
DTSTART;TZID=America/Denver:20241029T080000
DTEND;TZID=America/Denver:20241029T100000
DTSTAMP:20260422T131401
CREATED:20240730T235604Z
LAST-MODIFIED:20240820T135942Z
UID:34082-1730188800-1730196000@offersandneeds.com
SUMMARY:The Offers and Needs Market Advanced Facilitator Training – October 2024
DESCRIPTION:
URL:https://offersandneeds.com/events/the-offers-and-needs-market-advanced-facilitator-training-october-2024/2024-10-29/
END:VEVENT
BEGIN:VEVENT
DTSTART;TZID=America/Denver:20241022T080000
DTEND;TZID=America/Denver:20241022T100000
DTSTAMP:20260422T131401
CREATED:20240730T235604Z
LAST-MODIFIED:20240820T135942Z
UID:34081-1729584000-1729591200@offersandneeds.com
SUMMARY:The Offers and Needs Market Advanced Facilitator Training – October 2024
DESCRIPTION:
URL:https://offersandneeds.com/events/the-offers-and-needs-market-advanced-facilitator-training-october-2024/2024-10-22/
END:VEVENT
BEGIN:VEVENT
DTSTART;TZID=America/Denver:20241015T080000
DTEND;TZID=America/Denver:20241015T100000
DTSTAMP:20260422T131401
CREATED:20240730T235604Z
LAST-MODIFIED:20240820T135942Z
UID:34080-1728979200-1728986400@offersandneeds.com
SUMMARY:The Offers and Needs Market Advanced Facilitator Training – October 2024
DESCRIPTION:
URL:https://offersandneeds.com/events/the-offers-and-needs-market-advanced-facilitator-training-october-2024/2024-10-15/
END:VEVENT
BEGIN:VEVENT
DTSTART;TZID=America/Denver:20241008T080000
DTEND;TZID=America/Denver:20241008T100000
DTSTAMP:20260422T131401
CREATED:20240730T235604Z
LAST-MODIFIED:20240820T135942Z
UID:34079-1728374400-1728381600@offersandneeds.com
SUMMARY:The Offers and Needs Market Advanced Facilitator Training – October 2024
DESCRIPTION:
URL:https://offersandneeds.com/events/the-offers-and-needs-market-advanced-facilitator-training-october-2024/2024-10-08/
END:VEVENT
BEGIN:VEVENT
DTSTART;TZID=America/Denver:20241001T080000
DTEND;TZID=America/Denver:20241001T100000
DTSTAMP:20260422T131401
CREATED:20240730T235604Z
LAST-MODIFIED:20240820T135941Z
UID:33996-1727769600-1727776800@offersandneeds.com
SUMMARY:The Offers and Needs Market Advanced Facilitator Training – October 2024
DESCRIPTION:
URL:https://offersandneeds.com/events/the-offers-and-needs-market-advanced-facilitator-training-october-2024/2024-10-01/
END:VEVENT
END:VCALENDAR