BEGIN:VCALENDAR
VERSION:2.0
PRODID:-//The Offers and Needs Market - ECPv6.15.20//NONSGML v1.0//EN
CALSCALE:GREGORIAN
METHOD:PUBLISH
X-WR-CALNAME:The Offers and Needs Market
X-ORIGINAL-URL:https://offersandneeds.com
X-WR-CALDESC:Events for The Offers and Needs Market
REFRESH-INTERVAL;VALUE=DURATION:PT1H
X-Robots-Tag:noindex
X-PUBLISHED-TTL:PT1H
BEGIN:VTIMEZONE
TZID:UTC
BEGIN:STANDARD
TZOFFSETFROM:+0000
TZOFFSETTO:+0000
TZNAME:UTC
DTSTART:20220101T000000
END:STANDARD
END:VTIMEZONE
BEGIN:VEVENT
DTSTART;TZID=UTC:20231107T100000
DTEND;TZID=UTC:20231205T120000
DTSTAMP:20260424T103704
CREATED:20231004T021306Z
LAST-MODIFIED:20240730T235311Z
UID:33027-1699351200-1701777600@offersandneeds.com
SUMMARY:The Offers and Needs Market Advanced Facilitator Training – November 2023
DESCRIPTION:
URL:https://offersandneeds.com/events/the-offers-and-needs-market-advanced-facilitator-training-november-2023/2023-11-07/
END:VEVENT
END:VCALENDAR